

BEGIN:VCALENDAR
VERSION:2.0
PRODID:-//Fischereiverein Oberweser - ECPv6.0.9//NONSGML v1.0//EN
CALSCALE:GREGORIAN
METHOD:PUBLISH
X-WR-CALNAME:Fischereiverein Oberweser
X-ORIGINAL-URL:https://fischereiverein-oberweser.de
X-WR-CALDESC:Veranstaltungen für Fischereiverein Oberweser
REFRESH-INTERVAL;VALUE=DURATION:PT1H
X-Robots-Tag:noindex
X-PUBLISHED-TTL:PT1H
BEGIN:VTIMEZONE
TZID:Europe/Helsinki
BEGIN:DAYLIGHT
TZOFFSETFROM:+0200
TZOFFSETTO:+0300
TZNAME:EEST
DTSTART:20240331T010000
END:DAYLIGHT
BEGIN:STANDARD
TZOFFSETFROM:+0300
TZOFFSETTO:+0200
TZNAME:EET
DTSTART:20241027T010000
END:STANDARD
END:VTIMEZONE
BEGIN:VEVENT
DTSTART;TZID=Europe/Helsinki:20240812T180000
DTEND;TZID=Europe/Helsinki:20240812T193000
DTSTAMP:20260424T145012
CREATED:20240527T074737Z
LAST-MODIFIED:20240527T074839Z
UID:1211-1723485600-1723491000@fischereiverein-oberweser.de
SUMMARY:Vorbesprechung Prüfungsvorbereitung Fischereiprüfung am 12.08.2024
DESCRIPTION:Am 12.08.2024 findet ab 18:00 Uhr eine Vorbesprechung zur Fischereiprüfung statt. \nAlle Interessenten\, egal ob Jugendlicher oder Erwachsener  können sich an diesem Tag über den Ablauf des Lehrgangs und die Fischereiprüfung  Informieren. \nBei Interesse bitte bei unserem Fischereiausbilder Frank Marziniak tel. 0160-4848409 melden. \nWir treffen uns im Jugend und Anglerheim am Weserbergland See. \n 
URL:https://fischereiverein-oberweser.de/event/vorbesprechung-pruefungsvorbereitung-fischerpruefung/
LOCATION:Weserberglandsee
END:VEVENT
END:VCALENDAR