

BEGIN:VCALENDAR
VERSION:2.0
PRODID:-//Fischereiverein Oberweser - ECPv6.0.9//NONSGML v1.0//EN
CALSCALE:GREGORIAN
METHOD:PUBLISH
X-ORIGINAL-URL:https://fischereiverein-oberweser.de
X-WR-CALDESC:Veranstaltungen für Fischereiverein Oberweser
REFRESH-INTERVAL;VALUE=DURATION:PT1H
X-Robots-Tag:noindex
X-PUBLISHED-TTL:PT1H
BEGIN:VTIMEZONE
TZID:Europe/Helsinki
BEGIN:DAYLIGHT
TZOFFSETFROM:+0200
TZOFFSETTO:+0300
TZNAME:EEST
DTSTART:20240331T010000
END:DAYLIGHT
BEGIN:STANDARD
TZOFFSETFROM:+0300
TZOFFSETTO:+0200
TZNAME:EET
DTSTART:20241027T010000
END:STANDARD
END:VTIMEZONE
BEGIN:VEVENT
DTSTART;TZID=Europe/Helsinki:20240720T100000
DTEND;TZID=Europe/Helsinki:20240720T160000
DTSTAMP:20260424T164557
CREATED:20240527T074444Z
LAST-MODIFIED:20240527T074434Z
UID:890-1721469600-1721491200@fischereiverein-oberweser.de
SUMMARY:Schnupperangeln am 20.07.2024
DESCRIPTION:Hallo zusammen\,\nAm Samstag den 20.07.24 haben  wir wieder ein Schnupperangeln in zusammenarbeit mit dem Kinderschutzbund Höxter geplant. \nEs geht um 10:00 Uhr los. \nEs ist geplant\, dass das Schnupperangeln bis 16:00 Uhr geht. \nHätte jemand Lust uns als Aufsicht zu unterstützen ? \nFür Essen und Getränke ist selbstverständlich gesorgt. \nWer helfen möchte\, kann sich gerne bei Willi  melden.
URL:https://fischereiverein-oberweser.de/event/schnupperangeln-kinderschutzbund/
LOCATION:Weserberglandsee
CATEGORIES:Kinderschutzbund
END:VEVENT
END:VCALENDAR