

BEGIN:VCALENDAR
VERSION:2.0
PRODID:-//Fischereiverein Oberweser - ECPv6.0.9//NONSGML v1.0//EN
CALSCALE:GREGORIAN
METHOD:PUBLISH
X-ORIGINAL-URL:https://fischereiverein-oberweser.de
X-WR-CALDESC:Veranstaltungen für Fischereiverein Oberweser
REFRESH-INTERVAL;VALUE=DURATION:PT1H
X-Robots-Tag:noindex
X-PUBLISHED-TTL:PT1H
BEGIN:VTIMEZONE
TZID:Europe/Helsinki
BEGIN:DAYLIGHT
TZOFFSETFROM:+0200
TZOFFSETTO:+0300
TZNAME:EEST
DTSTART:20250330T010000
END:DAYLIGHT
BEGIN:STANDARD
TZOFFSETFROM:+0300
TZOFFSETTO:+0200
TZNAME:EET
DTSTART:20251026T010000
END:STANDARD
END:VTIMEZONE
BEGIN:VEVENT
DTSTART;TZID=Europe/Helsinki:20251213T090000
DTEND;TZID=Europe/Helsinki:20251213T090000
DTSTAMP:20260423T134330
CREATED:20251209T091209Z
LAST-MODIFIED:20251209T101329Z
UID:970-1765616400-1765616400@fischereiverein-oberweser.de
SUMMARY:Arbeitseinsatz  am 13.12.2025
DESCRIPTION:Wir treffen uns am Samstag\, dem 13.12.2025 um 9:00 am See. \nEs ist der letzte Arbeitseinsatz in diesem Jahr um sein Zeitkonto aufzufüllen und um die vorgegebenen Arbeitsstunden abzuleisten. \nWeitere Infos bei Willi oder Ekki.
URL:https://fischereiverein-oberweser.de/event/arbeitseinsatz/
LOCATION:Weserberglandsee
CATEGORIES:Arbeitseinsätze
END:VEVENT
END:VCALENDAR