

BEGIN:VCALENDAR
VERSION:2.0
PRODID:-//Fischereiverein Oberweser - ECPv6.0.9//NONSGML v1.0//EN
CALSCALE:GREGORIAN
METHOD:PUBLISH
X-ORIGINAL-URL:https://fischereiverein-oberweser.de
X-WR-CALDESC:Veranstaltungen für Fischereiverein Oberweser
REFRESH-INTERVAL;VALUE=DURATION:PT1H
X-Robots-Tag:noindex
X-PUBLISHED-TTL:PT1H
BEGIN:VTIMEZONE
TZID:Europe/Helsinki
BEGIN:DAYLIGHT
TZOFFSETFROM:+0200
TZOFFSETTO:+0300
TZNAME:EEST
DTSTART:20240331T010000
END:DAYLIGHT
BEGIN:STANDARD
TZOFFSETFROM:+0300
TZOFFSETTO:+0200
TZNAME:EET
DTSTART:20241027T010000
END:STANDARD
END:VTIMEZONE
BEGIN:VEVENT
DTSTART;TZID=Europe/Helsinki:20240323T160000
DTEND;TZID=Europe/Helsinki:20240323T180000
DTSTAMP:20260425T012744
CREATED:20240108T090634Z
LAST-MODIFIED:20240108T100701Z
UID:1275-1711209600-1711216800@fischereiverein-oberweser.de
SUMMARY:Jahreshauptversammlung A+F Verein
DESCRIPTION:Am 23.03.2024 treffen sich die Mitglieder des A+F Vereins zur  diesjährigen Jahreshauptversammlung. Der Beginn ist um 16:00 Uhr \n 
URL:https://fischereiverein-oberweser.de/event/jahreshauptversammlung-der-jugendgruppe/
LOCATION:Weserberglandsee
CATEGORIES:Versammlung
END:VEVENT
END:VCALENDAR