

BEGIN:VCALENDAR
VERSION:2.0
PRODID:-//Fischereiverein Oberweser - ECPv6.0.9//NONSGML v1.0//EN
CALSCALE:GREGORIAN
METHOD:PUBLISH
X-WR-CALNAME:Fischereiverein Oberweser
X-ORIGINAL-URL:https://fischereiverein-oberweser.de
X-WR-CALDESC:Veranstaltungen für Fischereiverein Oberweser
REFRESH-INTERVAL;VALUE=DURATION:PT1H
X-Robots-Tag:noindex
X-PUBLISHED-TTL:PT1H
BEGIN:VTIMEZONE
TZID:Europe/Helsinki
BEGIN:DAYLIGHT
TZOFFSETFROM:+0200
TZOFFSETTO:+0300
TZNAME:EEST
DTSTART:20240331T010000
END:DAYLIGHT
BEGIN:STANDARD
TZOFFSETFROM:+0300
TZOFFSETTO:+0200
TZNAME:EET
DTSTART:20241027T010000
END:STANDARD
END:VTIMEZONE
BEGIN:VEVENT
DTSTART;TZID=Europe/Helsinki:20240309T140000
DTEND;TZID=Europe/Helsinki:20240310T200000
DTSTAMP:20260425T154734
CREATED:20240108T085820Z
LAST-MODIFIED:20240108T100311Z
UID:1086-1709992800-1710100800@fischereiverein-oberweser.de
SUMMARY:Schlachteessen Club Lauenförde
DESCRIPTION:Am 09.03. ab 14 Uhr und am 10.03. ab 10 Uhr ist das Schlachteessen des Club´s Lauenförde. \nEs sind alle Mitglieder und Gäste eingeladen. \nInfos bei Willi Gieffers oder Manfred Tessein. \n 
URL:https://fischereiverein-oberweser.de/event/schlachteessen-club-lauenfoerde/
LOCATION:Weserberglandsee
END:VEVENT
END:VCALENDAR