

BEGIN:VCALENDAR
VERSION:2.0
PRODID:-//Fischereiverein Oberweser - ECPv6.0.9//NONSGML v1.0//EN
CALSCALE:GREGORIAN
METHOD:PUBLISH
X-ORIGINAL-URL:https://fischereiverein-oberweser.de
X-WR-CALDESC:Veranstaltungen für Fischereiverein Oberweser
REFRESH-INTERVAL;VALUE=DURATION:PT1H
X-Robots-Tag:noindex
X-PUBLISHED-TTL:PT1H
BEGIN:VTIMEZONE
TZID:Europe/Helsinki
BEGIN:DAYLIGHT
TZOFFSETFROM:+0200
TZOFFSETTO:+0300
TZNAME:EEST
DTSTART:20240331T010000
END:DAYLIGHT
BEGIN:STANDARD
TZOFFSETFROM:+0300
TZOFFSETTO:+0200
TZNAME:EET
DTSTART:20241027T010000
END:STANDARD
END:VTIMEZONE
BEGIN:VEVENT
DTSTART;TZID=Europe/Helsinki:20240217T160000
DTEND;TZID=Europe/Helsinki:20240217T200000
DTSTAMP:20260425T204208
CREATED:20240108T085005Z
LAST-MODIFIED:20240108T095530Z
UID:1045-1708185600-1708200000@fischereiverein-oberweser.de
SUMMARY:Stammtisch räuchern
DESCRIPTION:Wir treffen uns am 17.02. ab 16.00 Uhr zum Stammtisch. \nEs werden Forellen geräuchert. \nBitte für das Räuchern anmelden\, damit wir wissen\, wie viele Forellen benötigt werden. \n 
URL:https://fischereiverein-oberweser.de/event/stammtisch-grillen/
LOCATION:Weserberglandsee
CATEGORIES:Stammtisch-Termine
END:VEVENT
END:VCALENDAR